BEGIN:VCALENDAR
METHOD:PUBLISH
PRODID:evanced event management system
VERSION:2.0
BEGIN:VEVENT
UID:http://events.wlnonline.org/eventsignup.asp?ID=44542
DTSTAMP:20250905T100745Z
DTSTART:20250911T140000Z
DTEND:20250911T160000Z
TITLE;ENCODING=QUOTED-PRINTABLE:AAUW Speaker Series
SUMMARY;ENCODING=QUOTED-PRINTABLE:AAUW Speaker Series
DESCRIPTION;ENCODING=QUOTED-PRINTABLE:The Murrysville AAUW will host a special speaker each month as part of their monthly meetings. The Speaker for September is Brian Butko - The Lincoln Highway/Route 30 Experience. This event is free and open to all members of the community.  A coffee/cookie reception will be held afterwards in the conference room at 11:15 am.  Open to the public, all are welcome. Registration is not required.
LOCATION:Murrysville Community Library at TechNook 
URL:http://events.wlnonline.org/eventsignup.asp?ID=44542
CATEGORIES:Adult Program
END:VEVENT
END:VCALENDAR
