BEGIN:VCALENDAR
METHOD:PUBLISH
PRODID:evanced event management system
VERSION:2.0
BEGIN:VEVENT
UID:http://events.wlnonline.org/eventsignup.asp?ID=44493
DTSTAMP:20250807T181737Z
DTSTART:20250819T140000Z
DTEND:20250819T140000Z
TITLE;ENCODING=QUOTED-PRINTABLE:Miss Sydney's Last Storytime
SUMMARY;ENCODING=QUOTED-PRINTABLE:Miss Sydney's Last Storytime
DESCRIPTION;ENCODING=QUOTED-PRINTABLE:Join us for Miss Sydney's last story time. We will read stories, sing songs, and do a craft. This program is for ages 0-6.
LOCATION:Penn Area Library at Multipurpose Room
URL:http://events.wlnonline.org/eventsignup.asp?ID=44493
CATEGORIES:Children's Program
END:VEVENT
END:VCALENDAR
