BEGIN:VCALENDAR
METHOD:PUBLISH
PRODID:evanced event management system
VERSION:2.0
BEGIN:VEVENT
UID:http://events.wlnonline.org/eventsignup.asp?ID=44321
DTSTAMP:20250725T130357Z
DTSTART:20251213T160000Z
DTEND:20251213T170000Z
TITLE;ENCODING=QUOTED-PRINTABLE:Universal Curiosity Program
SUMMARY;ENCODING=QUOTED-PRINTABLE:Universal Curiosity Program
DESCRIPTION;ENCODING=QUOTED-PRINTABLE:Learn why the universe works the way it does and discuss current events happening in space. For children ages 8 - 12, facilitated by Franklin Regional student Roger Huang. Register online at www.murrysvillelibrary.org or call the library at 724-327-1102.
LOCATION:Murrysville Community Library at Conference Room #1
URL:http://events.wlnonline.org/eventsignup.asp?ID=44321
CATEGORIES:Children's Program
END:VEVENT
END:VCALENDAR
