BEGIN:VCALENDAR
METHOD:PUBLISH
PRODID:evanced event management system
VERSION:2.0
BEGIN:VEVENT
UID:http://events.wlnonline.org/eventsignup.asp?ID=43986
DTSTAMP:20250703T131313Z
DTSTART:20250711T170000Z
DTEND:20250711T170000Z
TITLE;ENCODING=QUOTED-PRINTABLE:Lego Club
SUMMARY;ENCODING=QUOTED-PRINTABLE:Lego Club
DESCRIPTION;ENCODING=QUOTED-PRINTABLE:Spend the afternoon making your own Lego Creation. There will be a challenge at every Lego Club!=0D=0A
LOCATION:Penn Area Library at Multipurpose Room
URL:http://events.wlnonline.org/eventsignup.asp?ID=43986
CATEGORIES:Children's Program
END:VEVENT
END:VCALENDAR
