BEGIN:VCALENDAR
METHOD:PUBLISH
PRODID:evanced event management system
VERSION:2.0
BEGIN:VEVENT
UID:http://events.wlnonline.org/eventsignup.asp?ID=43982
DTSTAMP:20250701T121107Z
DTSTART:20250710T140000Z
DTEND:20250710T140000Z
TITLE;ENCODING=QUOTED-PRINTABLE:Music Together
SUMMARY;ENCODING=QUOTED-PRINTABLE:Music Together
DESCRIPTION;ENCODING=QUOTED-PRINTABLE:Join us for a morning of educational singing and dancing.
LOCATION:Penn Area Library at Multipurpose Room
URL:http://events.wlnonline.org/eventsignup.asp?ID=43982
CATEGORIES:Children's Program
END:VEVENT
END:VCALENDAR
