BEGIN:VCALENDAR
METHOD:PUBLISH
PRODID:evanced event management system
VERSION:2.0
BEGIN:VEVENT
UID:http://events.wlnonline.org/eventsignup.asp?ID=43974
DTSTAMP:20250630T083510Z
DTSTART:20250716T170000Z
DTEND:20250716T170000Z
TITLE;ENCODING=QUOTED-PRINTABLE:Kids Craft Club
SUMMARY;ENCODING=QUOTED-PRINTABLE:Kids Craft Club
DESCRIPTION;ENCODING=QUOTED-PRINTABLE:Come along for an afternoon of art! We will be doing still art pencil drawings. 
LOCATION:Penn Area Library at Multipurpose Room
URL:http://events.wlnonline.org/eventsignup.asp?ID=43974
CATEGORIES:Children's Program
END:VEVENT
END:VCALENDAR
