BEGIN:VCALENDAR
METHOD:PUBLISH
PRODID:evanced event management system
VERSION:2.0
BEGIN:VEVENT
UID:http://events.wlnonline.org/eventsignup.asp?ID=43968
DTSTAMP:20250811T161146Z
DTSTART:20250811T200000Z
DTEND:20250811T210000Z
TITLE;ENCODING=QUOTED-PRINTABLE:CANCELLED PROGRAM - Summer Math Club
SUMMARY;ENCODING=QUOTED-PRINTABLE:CANCELLED PROGRAM - Summer Math Club
DESCRIPTION;ENCODING=QUOTED-PRINTABLE:CANCELLED PROGRAM - Attention rising second graders! Join us for Summer Math Club, where we will be focusing on keeping our math skills sharp over the summer. Our Summer Math Club is packed with fun games to keep your mind ready for second grade! Register separately for each class on our events calendar at www.murrysvillelibrary.org or call the library at (724) 327-1102. For Grades 1-2.
LOCATION:Murrysville Community Library at Conference Rooms 1 & 2
URL:http://events.wlnonline.org/eventsignup.asp?ID=43968
CATEGORIES:STEM
END:VEVENT
END:VCALENDAR
