BEGIN:VCALENDAR
METHOD:PUBLISH
PRODID:evanced event management system
VERSION:2.0
BEGIN:VEVENT
UID:http://events.wlnonline.org/eventsignup.asp?ID=43961
DTSTAMP:20250710T100601Z
DTSTART:20250710T213000Z
DTEND:20250710T213000Z
TITLE;ENCODING=QUOTED-PRINTABLE:Adult Craft Night!
SUMMARY;ENCODING=QUOTED-PRINTABLE:Adult Craft Night!
DESCRIPTION;ENCODING=QUOTED-PRINTABLE:Enjoy and relaxing and creative night with Kelly!
LOCATION:Rostraver Public Library
URL:http://events.wlnonline.org/eventsignup.asp?ID=43961
CATEGORIES:Arts & Culture
END:VEVENT
END:VCALENDAR
