BEGIN:VCALENDAR
METHOD:PUBLISH
PRODID:evanced event management system
VERSION:2.0
BEGIN:VEVENT
UID:http://events.wlnonline.org/eventsignup.asp?ID=43946
DTSTAMP:20250807T163049Z
DTSTART:20250811T160000Z
DTEND:20250811T170000Z
TITLE;ENCODING=QUOTED-PRINTABLE:Seniors Helping Seniors
SUMMARY;ENCODING=QUOTED-PRINTABLE:Seniors Helping Seniors
DESCRIPTION;ENCODING=QUOTED-PRINTABLE:Learn more about the aging process and the effects it can have on your loved ones. Seniors Helping Seniors specializes in caregiving from seniors, for seniors, where both client and caregiver feel valued and appreciated. Stop by for this informational session, and have lunch with us! 
LOCATION:Murrysville Community Library at Conference Room #1
URL:http://events.wlnonline.org/eventsignup.asp?ID=43946
CATEGORIES:Adult Program
END:VEVENT
END:VCALENDAR
