BEGIN:VCALENDAR
METHOD:PUBLISH
PRODID:evanced event management system
VERSION:2.0
BEGIN:VEVENT
UID:http://events.wlnonline.org/eventsignup.asp?ID=43751
DTSTAMP:20250728T103113Z
DTSTART:20250728T220000Z
DTEND:20250728T233000Z
TITLE;ENCODING=QUOTED-PRINTABLE:CANCELLED PROGRAM 1st Cannon Financial Planning program
SUMMARY;ENCODING=QUOTED-PRINTABLE:CANCELLED PROGRAM 1st Cannon Financial Planning program
DESCRIPTION;ENCODING=QUOTED-PRINTABLE:CANCELLED PROGRAM Learn about retirement and future planning from the experts at 1st Cannon Financial.  Topics discussed will include investment and Medicare decisions.  Register online at www.murrysvillelibrary.org or call the library at 724-327-1102.
LOCATION:Murrysville Community Library at TechNook area
URL:http://events.wlnonline.org/eventsignup.asp?ID=43751
CATEGORIES:Adult Program
END:VEVENT
END:VCALENDAR
