BEGIN:VCALENDAR
METHOD:PUBLISH
PRODID:evanced event management system
VERSION:2.0
BEGIN:VEVENT
UID:http://events.wlnonline.org/eventsignup.asp?ID=43748
DTSTAMP:20250609T114413Z
DTSTART:20250620T164500Z
DTEND:20250620T184500Z
TITLE;ENCODING=QUOTED-PRINTABLE:Office of Vocational Rehabilitation (OVR) Meet & Greet
SUMMARY;ENCODING=QUOTED-PRINTABLE:Office of Vocational Rehabilitation (OVR) Meet & Greet
DESCRIPTION;ENCODING=QUOTED-PRINTABLE:Meet your regional Early Reach Coordinator and learn how OVR can help you become work ready! OVR provides services for students age 14 to 21 years old with disabilities in career planning, resumes, job applications, and interviewing skills.  Registration not required.
LOCATION:Murrysville Community Library at Murrysville Library
URL:http://events.wlnonline.org/eventsignup.asp?ID=43748
CATEGORIES:Teen Program
END:VEVENT
END:VCALENDAR
