BEGIN:VCALENDAR
METHOD:PUBLISH
PRODID:evanced event management system
VERSION:2.0
BEGIN:VEVENT
UID:http://events.wlnonline.org/eventsignup.asp?ID=43713
DTSTAMP:20250609T152749Z
DTSTART:20250620T170000Z
DTEND:20250620T190000Z
TITLE;ENCODING=QUOTED-PRINTABLE:Lego Club
SUMMARY;ENCODING=QUOTED-PRINTABLE:Lego Club
DESCRIPTION;ENCODING=QUOTED-PRINTABLE:Spend the afternoon making your own Lego Creation. There will be a challenge at every Lego Club!
LOCATION:Penn Area Library at Multipurpose Room
URL:http://events.wlnonline.org/eventsignup.asp?ID=43713
CATEGORIES:Children's Program
END:VEVENT
END:VCALENDAR
