BEGIN:VCALENDAR
METHOD:PUBLISH
PRODID:evanced event management system
VERSION:2.0
BEGIN:VEVENT
UID:http://events.wlnonline.org/eventsignup.asp?ID=43700
DTSTAMP:20250530T112338Z
DTSTART:20250610T150000Z
DTEND:20250610T150000Z
TITLE;ENCODING=QUOTED-PRINTABLE:Story Time
SUMMARY;ENCODING=QUOTED-PRINTABLE:Story Time
DESCRIPTION;ENCODING=QUOTED-PRINTABLE:Join Ms. Sydney & Ms. Barb for a toddler story time.
LOCATION:Penn Area Library at Multipurpose Room
URL:http://events.wlnonline.org/eventsignup.asp?ID=43700
CATEGORIES:Children's Program
END:VEVENT
END:VCALENDAR
