BEGIN:VCALENDAR
METHOD:PUBLISH
PRODID:evanced event management system
VERSION:2.0
BEGIN:VEVENT
UID:http://events.wlnonline.org/eventsignup.asp?ID=43625
DTSTAMP:20250612T194607Z
DTSTART:20250729T210000Z
DTEND:20250729T220000Z
TITLE;ENCODING=QUOTED-PRINTABLE:Scrapbooking for Teens
SUMMARY;ENCODING=QUOTED-PRINTABLE:Scrapbooking for Teens
DESCRIPTION;ENCODING=QUOTED-PRINTABLE:Print out your pictures and come make a summer memory scrapbook at the library. Register online at www.murrysvillelibrary.org or call the library at 724-327-1102.
LOCATION:Murrysville Community Library at Conference Rooms 1 & 2
URL:http://events.wlnonline.org/eventsignup.asp?ID=43625
CATEGORIES:Summer Reading Program
END:VEVENT
END:VCALENDAR
