BEGIN:VCALENDAR
METHOD:PUBLISH
PRODID:evanced event management system
VERSION:2.0
BEGIN:VEVENT
UID:http://events.wlnonline.org/eventsignup.asp?ID=43583
DTSTAMP:20250524T111747Z
DTSTART:20250715T210000Z
DTEND:20250715T210000Z
TITLE;ENCODING=QUOTED-PRINTABLE:Granny-Craft Club
SUMMARY;ENCODING=QUOTED-PRINTABLE:Granny-Craft Club
DESCRIPTION;ENCODING=QUOTED-PRINTABLE:Created by our Teen Advisory Board, Granny Craft Club invites teens and adults to celebrate cozy, creative crafting traditions. Bring your favorite "granny" project—knitting, crochet, embroidery, or any old-school craft—and enjoy crafting alongside fellow makers in a relaxed, social setting. Yarn will be available while supplies last.=0D=0AFor tweens, teens and adults. All skill levels welcome!
LOCATION:Penn Area Library at Multipurpose Room
URL:http://events.wlnonline.org/eventsignup.asp?ID=43583
CATEGORIES:Young Adult
END:VEVENT
END:VCALENDAR
