BEGIN:VCALENDAR
METHOD:PUBLISH
PRODID:evanced event management system
VERSION:2.0
BEGIN:VEVENT
UID:http://events.wlnonline.org/eventsignup.asp?ID=43577
DTSTAMP:20250524T105346Z
DTSTART:20250617T210000Z
DTEND:20250617T210000Z
TITLE;ENCODING=QUOTED-PRINTABLE:'Wild Foraging' with Master Gardener Lindsey Praksti
SUMMARY;ENCODING=QUOTED-PRINTABLE:'Wild Foraging' with Master Gardener Lindsey Praksti
DESCRIPTION;ENCODING=QUOTED-PRINTABLE:Come out to learn about the green world waiting just outside your door. From edible weeds in your front yard to juicy berries in abandoned fields and medicinal trees in the forests. Learn some key plant identification skills, ethics and tips. =0D=0A=0D=0AFor teens and adults. 
LOCATION:Penn Area Library at Multipurpose Room
URL:http://events.wlnonline.org/eventsignup.asp?ID=43577
CATEGORIES:Gardening
END:VEVENT
END:VCALENDAR
