BEGIN:VCALENDAR
METHOD:PUBLISH
PRODID:evanced event management system
VERSION:2.0
BEGIN:VEVENT
UID:http://events.wlnonline.org/eventsignup.asp?ID=43573
DTSTAMP:20250524T104823Z
DTSTART:20250611T200000Z
DTEND:20250611T205000Z
TITLE;ENCODING=QUOTED-PRINTABLE:Scrapbook Journal Workshop 
SUMMARY;ENCODING=QUOTED-PRINTABLE:Scrapbook Journal Workshop 
DESCRIPTION;ENCODING=QUOTED-PRINTABLE:Join local artist Sophia Eliason for a three-part workshop series exploring scrapbook journalism—the creative art of capturing your life through collected memories. Bring your favorite journal and gather your receipts, movie ticket stubs, doodles, and pressed flowers to craft a one-of-a-kind personal archive. This hands-on workshop is perfect for teens (ages 13+). =0D=0ARegistration required – sign up today! 
LOCATION:Penn Area Library at Multipurpose Room
URL:http://events.wlnonline.org/eventsignup.asp?ID=43573
CATEGORIES:Teen Program
END:VEVENT
END:VCALENDAR
