BEGIN:VCALENDAR
METHOD:PUBLISH
PRODID:evanced event management system
VERSION:2.0
BEGIN:VEVENT
UID:http://events.wlnonline.org/eventsignup.asp?ID=43571
DTSTAMP:20250710T080931Z
DTSTART:20250717T150000Z
DTEND:20250717T150000Z
TITLE;ENCODING=QUOTED-PRINTABLE:Teddy Bear Workshop!
SUMMARY;ENCODING=QUOTED-PRINTABLE:Teddy Bear Workshop!
DESCRIPTION;ENCODING=QUOTED-PRINTABLE:Here a story, stuff and tie-dye your very own teddy bear!
LOCATION:Rostraver Public Library
URL:http://events.wlnonline.org/eventsignup.asp?ID=43571
CATEGORIES:Summer Reading Program
END:VEVENT
END:VCALENDAR
