BEGIN:VCALENDAR
METHOD:PUBLISH
PRODID:evanced event management system
VERSION:2.0
BEGIN:VEVENT
UID:http://events.wlnonline.org/eventsignup.asp?ID=43551
DTSTAMP:20250705T115115Z
DTSTART:20250710T150000Z
DTEND:20250710T150000Z
TITLE;ENCODING=QUOTED-PRINTABLE:Clay Companions: Animal Portrait Relief Tile Workshop
SUMMARY;ENCODING=QUOTED-PRINTABLE:Clay Companions: Animal Portrait Relief Tile Workshop
DESCRIPTION;ENCODING=QUOTED-PRINTABLE:Students will design and sculpt a relief tile featuring a portrait of an animal or their own beloved pet.  Whether it's a loyal dog, curious cat, or favorite wild animal. This class is perfect for animal lovers and artists of all levels looking to explore clay as a sculptural storytelling medium.
LOCATION:Rostraver Public Library
URL:http://events.wlnonline.org/eventsignup.asp?ID=43551
CATEGORIES:Summer Reading Program
END:VEVENT
END:VCALENDAR
