BEGIN:VCALENDAR
METHOD:PUBLISH
PRODID:evanced event management system
VERSION:2.0
BEGIN:VEVENT
UID:http://events.wlnonline.org/eventsignup.asp?ID=43549
DTSTAMP:20250522T085632Z
DTSTART:20250626T150000Z
DTEND:20250626T150000Z
TITLE;ENCODING=QUOTED-PRINTABLE:There's "Magic" in the Air!
SUMMARY;ENCODING=QUOTED-PRINTABLE:There's "Magic" in the Air!
DESCRIPTION;ENCODING=QUOTED-PRINTABLE:Join the fun and crazy magical antics of Steve Haberman!=0D=0AThere NO registration required for this event. 
LOCATION:Rostraver Public Library
URL:http://events.wlnonline.org/eventsignup.asp?ID=43549
CATEGORIES:Summer Reading Program
END:VEVENT
END:VCALENDAR
