BEGIN:VCALENDAR
METHOD:PUBLISH
PRODID:evanced event management system
VERSION:2.0
BEGIN:VEVENT
UID:http://events.wlnonline.org/eventsignup.asp?ID=43547
DTSTAMP:20250522T084541Z
DTSTART:20250612T150000Z
DTEND:20250612T150000Z
TITLE;ENCODING=QUOTED-PRINTABLE:It's an Alpaca Meet-and-Greet!
SUMMARY;ENCODING=QUOTED-PRINTABLE:It's an Alpaca Meet-and-Greet!
DESCRIPTION;ENCODING=QUOTED-PRINTABLE:“Alpaca” your bags, it’s going to be a wooly good time!=0D=0AThere will be Alpaca themed items for purchase!=0D=0AThere's NO registration required for this one.
LOCATION:Rostraver Public Library
URL:http://events.wlnonline.org/eventsignup.asp?ID=43547
CATEGORIES:Summer Reading Program
END:VEVENT
END:VCALENDAR
