BEGIN:VCALENDAR
METHOD:PUBLISH
PRODID:evanced event management system
VERSION:2.0
BEGIN:VEVENT
UID:http://events.wlnonline.org/eventsignup.asp?ID=43499
DTSTAMP:20250813T155652Z
DTSTART:20250709T170000Z
DTEND:20250709T170000Z
TITLE;ENCODING=QUOTED-PRINTABLE:Block Party Playdate!
SUMMARY;ENCODING=QUOTED-PRINTABLE:Block Party Playdate!
DESCRIPTION;ENCODING=QUOTED-PRINTABLE:Meet up and play with different types of building toys. For all ages. Registration Required.
LOCATION:Manor Public Library at Manor Public Library
URL:http://events.wlnonline.org/eventsignup.asp?ID=43499
CATEGORIES:Children's Program
END:VEVENT
END:VCALENDAR
