BEGIN:VCALENDAR
METHOD:PUBLISH
PRODID:evanced event management system
VERSION:2.0
BEGIN:VEVENT
UID:http://events.wlnonline.org/eventsignup.asp?ID=43306
DTSTAMP:20250520T142840Z
DTSTART:20250813T143000Z
DTEND:20250813T150000Z
TITLE;ENCODING=QUOTED-PRINTABLE:Tiny Tykes Tadpoles
SUMMARY;ENCODING=QUOTED-PRINTABLE:Tiny Tykes Tadpoles
DESCRIPTION;ENCODING=QUOTED-PRINTABLE:Children ages 3 and under meet in the library for stories, songs, and activities. This registration will secure your spot in the Tadpoles group through August. *We will only meet ONCE a month in June, July, and August on the 2nd Wednesday of the month.=0D=0AStories & activities will be exactly the same for both Ducklings and Tadpoles.
LOCATION:Rostraver Public Library
URL:http://events.wlnonline.org/eventsignup.asp?ID=43306
CATEGORIES:Storytime
END:VEVENT
END:VCALENDAR
