BEGIN:VCALENDAR
METHOD:PUBLISH
PRODID:evanced event management system
VERSION:2.0
BEGIN:VEVENT
UID:http://events.wlnonline.org/eventsignup.asp?ID=43283
DTSTAMP:20250605T113552Z
DTSTART:20250609T170000Z
DTEND:20250609T170000Z
TITLE;ENCODING=QUOTED-PRINTABLE:Wild World of Animals
SUMMARY;ENCODING=QUOTED-PRINTABLE:Wild World of Animals
DESCRIPTION;ENCODING=QUOTED-PRINTABLE:Join us for our summer reading kick off program. We will be meeting in the park under General Forbes pavilion. This presenter will bring in an assortment of wild animals and talk about their lives in the wild and in captivity! 
LOCATION:Penn Area Library at Multipurpose Room
URL:http://events.wlnonline.org/eventsignup.asp?ID=43283
CATEGORIES:Children's Program
END:VEVENT
END:VCALENDAR
