BEGIN:VCALENDAR
METHOD:PUBLISH
PRODID:evanced event management system
VERSION:2.0
BEGIN:VEVENT
UID:http://events.wlnonline.org/eventsignup.asp?ID=43172
DTSTAMP:20250519T122034Z
DTSTART:20250630T143000Z
DTEND:20250630T153000Z
TITLE;ENCODING=QUOTED-PRINTABLE:Kids on the Block Puppet Show
SUMMARY;ENCODING=QUOTED-PRINTABLE:Kids on the Block Puppet Show
DESCRIPTION;ENCODING=QUOTED-PRINTABLE:Join the Kids on the Block as they learn about different disabilities, such as hearing or vision impairment, and cerebral palsy.=0D=0AThis program is FREE but registration is required.=0D=0ATo register, please stop by the Children’s Room, call 724-537-4383, or visit our website to register online.
LOCATION:Adams Memorial Library at CDT
URL:http://events.wlnonline.org/eventsignup.asp?ID=43172
CATEGORIES:Children's Program
END:VEVENT
END:VCALENDAR
