BEGIN:VCALENDAR
METHOD:PUBLISH
PRODID:evanced event management system
VERSION:2.0
BEGIN:VEVENT
UID:http://events.wlnonline.org/eventsignup.asp?ID=43171
DTSTAMP:20250519T121908Z
DTSTART:20250628T170000Z
DTEND:20250628T180000Z
TITLE;ENCODING=QUOTED-PRINTABLE:You Can Toon Workshop
SUMMARY;ENCODING=QUOTED-PRINTABLE:You Can Toon Workshop
DESCRIPTION;ENCODING=QUOTED-PRINTABLE:Ever wanted to learn how to draw cartoons?  Here’s your chance to learn the basics of cartooning.  This program is geared towards kids 5 & up and their families.=0D=0AThis program requires registration.  Space is LIMITED.=0D=0ATo register, please stop by the Children’s Room, call 724-537-4383, or visit our website to register online.
LOCATION:Adams Memorial Library at Latrobe Art Center
URL:http://events.wlnonline.org/eventsignup.asp?ID=43171
CATEGORIES:Children's Program
END:VEVENT
END:VCALENDAR
