BEGIN:VCALENDAR
METHOD:PUBLISH
PRODID:evanced event management system
VERSION:2.0
BEGIN:VEVENT
UID:http://events.wlnonline.org/eventsignup.asp?ID=43167
DTSTAMP:20250519T121257Z
DTSTART:20250624T200000Z
DTEND:20250624T210000Z
TITLE;ENCODING=QUOTED-PRINTABLE:Virtual Author Talk: Katherine Applegate
SUMMARY;ENCODING=QUOTED-PRINTABLE:Virtual Author Talk: Katherine Applegate
DESCRIPTION;ENCODING=QUOTED-PRINTABLE:Join us as award-winning author and summer reading champion Katherine Applegate talks to viewers about her enthusiastically heartwarming novel in verse, Odder.  This virtual event is geared towards grades 3-6.=0D=0ATo register please visit our website.
LOCATION:Adams Memorial Library at Online
URL:http://events.wlnonline.org/eventsignup.asp?ID=43167
CATEGORIES:Children's Program
END:VEVENT
END:VCALENDAR
