BEGIN:VCALENDAR
METHOD:PUBLISH
PRODID:evanced event management system
VERSION:2.0
BEGIN:VEVENT
UID:http://events.wlnonline.org/eventsignup.asp?ID=43162
DTSTAMP:20250519T120450Z
DTSTART:20250616T143000Z
DTEND:20250616T153000Z
TITLE;ENCODING=QUOTED-PRINTABLE:Streams & Forests
SUMMARY;ENCODING=QUOTED-PRINTABLE:Streams & Forests
DESCRIPTION;ENCODING=QUOTED-PRINTABLE:Learn about woodland creatures, the invertebrates that live in our streams, trees, bugs, slugs and more in this interactive hands-on program from the Westmoreland Land Trust.=0D=0AThis program is FREE but registration is required.=0D=0ATo register, please stop by the Children’s Room, call 724-537-4383, or visit our website to register online.
LOCATION:Adams Memorial Library at CDT
URL:http://events.wlnonline.org/eventsignup.asp?ID=43162
CATEGORIES:Children's Program
END:VEVENT
END:VCALENDAR
