BEGIN:VCALENDAR
METHOD:PUBLISH
PRODID:evanced event management system
VERSION:2.0
BEGIN:VEVENT
UID:http://events.wlnonline.org/eventsignup.asp?ID=43160
DTSTAMP:20250519T120144Z
DTSTART:20250611T143000Z
DTEND:20250611T153000Z
TITLE;ENCODING=QUOTED-PRINTABLE: Color Your World with Storyteller Alan Irvine
SUMMARY;ENCODING=QUOTED-PRINTABLE: Color Your World with Storyteller Alan Irvine
DESCRIPTION;ENCODING=QUOTED-PRINTABLE:Did you know that colors in stories are important?  From a red cloak to a pot of gold, storyteller Alan Irvine will share folk tales and legends from around the world.=0D=0AThis program is FREE but registration is required.=0D=0ATo register, please stop by the Children’s Room, call 724-537-4383, or visit our website to register online.
LOCATION:Adams Memorial Library at CDT
URL:http://events.wlnonline.org/eventsignup.asp?ID=43160
CATEGORIES:Children's Program
END:VEVENT
END:VCALENDAR
