BEGIN:VCALENDAR
METHOD:PUBLISH
PRODID:evanced event management system
VERSION:2.0
BEGIN:VEVENT
UID:http://events.wlnonline.org/eventsignup.asp?ID=43159
DTSTAMP:20250519T120026Z
DTSTART:20250609T143000Z
DTEND:20250609T153000Z
TITLE;ENCODING=QUOTED-PRINTABLE:The Stages of the Butterfly's Life
SUMMARY;ENCODING=QUOTED-PRINTABLE:The Stages of the Butterfly's Life
DESCRIPTION;ENCODING=QUOTED-PRINTABLE:Learn about the life cycle of a butterfly and some words in ASL in this interactive program.=0D=0AThis program requires registration.=0D=0ATo register, please stop by the Children’s Room, call 724-537-4383, or visit our website to register online.
LOCATION:Adams Memorial Library at CDT
URL:http://events.wlnonline.org/eventsignup.asp?ID=43159
CATEGORIES:Children's Program
END:VEVENT
END:VCALENDAR
