BEGIN:VCALENDAR
METHOD:PUBLISH
PRODID:evanced event management system
VERSION:2.0
BEGIN:VEVENT
UID:http://events.wlnonline.org/eventsignup.asp?ID=43157
DTSTAMP:20250519T115622Z
DTSTART:20250609T220000Z
DTEND:20250609T220000Z
TITLE;ENCODING=QUOTED-PRINTABLE:Bake a Tale Paint Palette Sugar Cookies Take Home Kit
SUMMARY;ENCODING=QUOTED-PRINTABLE:Bake a Tale Paint Palette Sugar Cookies Take Home Kit
DESCRIPTION;ENCODING=QUOTED-PRINTABLE: Celebrate our Summer Reading theme with cookies.  Pick up your free recipe and activity kit starting Monday, June 9, so you can follow along on our website or social media.=0D=0A=0D=0AWhile supplies last.
LOCATION:Adams Memorial Library at Online
URL:http://events.wlnonline.org/eventsignup.asp?ID=43157
CATEGORIES:Children's Program
END:VEVENT
END:VCALENDAR
