BEGIN:VCALENDAR
METHOD:PUBLISH
PRODID:evanced event management system
VERSION:2.0
BEGIN:VEVENT
UID:http://events.wlnonline.org/eventsignup.asp?ID=43154
DTSTAMP:20250519T115158Z
DTSTART:20250605T143000Z
DTEND:20250605T153000Z
TITLE;ENCODING=QUOTED-PRINTABLE:Stories with Chief Bosco
SUMMARY;ENCODING=QUOTED-PRINTABLE:Stories with Chief Bosco
DESCRIPTION;ENCODING=QUOTED-PRINTABLE:Enjoy a fun story time with Latrobe's Chief of Police, Chief Bosco! This program is held at AML and requires registration.
LOCATION:Adams Memorial Library at Reed Room
URL:http://events.wlnonline.org/eventsignup.asp?ID=43154
CATEGORIES:Children's Program
END:VEVENT
END:VCALENDAR
