BEGIN:VCALENDAR
METHOD:PUBLISH
PRODID:evanced event management system
VERSION:2.0
BEGIN:VEVENT
UID:http://events.wlnonline.org/eventsignup.asp?ID=43153
DTSTAMP:20250519T114848Z
DTSTART:20250603T171500Z
DTEND:20250603T181500Z
TITLE;ENCODING=QUOTED-PRINTABLE: Mister Rogers Family Days Storytime in the Park
SUMMARY;ENCODING=QUOTED-PRINTABLE: Mister Rogers Family Days Storytime in the Park
DESCRIPTION;ENCODING=QUOTED-PRINTABLE:Miss Karen will be in Legion Keener Park for a Mister Rogers Family Days themed storytime.  Since we’re outside, make sure to bring a blanket or chair.=0D=0ATo register, go to misterrogersfamilyday.org=0D=0A
LOCATION:Adams Memorial Library at Legion Keener Park
URL:http://events.wlnonline.org/eventsignup.asp?ID=43153
CATEGORIES:Children's Program
END:VEVENT
END:VCALENDAR
