BEGIN:VCALENDAR
METHOD:PUBLISH
PRODID:evanced event management system
VERSION:2.0
BEGIN:VEVENT
UID:http://events.wlnonline.org/eventsignup.asp?ID=43151
DTSTAMP:20250519T114719Z
DTSTART:20250620T170000Z
DTEND:20250620T170000Z
TITLE;ENCODING=QUOTED-PRINTABLE:Friday Photos 
SUMMARY;ENCODING=QUOTED-PRINTABLE:Friday Photos 
DESCRIPTION;ENCODING=QUOTED-PRINTABLE: Dandelion, Bryony, Diantha, & Rosie are reading all kinds of books.  Catch them on Instagram to see what they’re reading this month.
LOCATION:Adams Memorial Library at Online
URL:http://events.wlnonline.org/eventsignup.asp?ID=43151
CATEGORIES:Children's Program
END:VEVENT
END:VCALENDAR
