BEGIN:VCALENDAR
METHOD:PUBLISH
PRODID:evanced event management system
VERSION:2.0
BEGIN:VEVENT
UID:http://events.wlnonline.org/eventsignup.asp?ID=43148
DTSTAMP:20250519T114541Z
DTSTART:20250624T153000Z
DTEND:20250624T160000Z
TITLE;ENCODING=QUOTED-PRINTABLE:Storytime 
SUMMARY;ENCODING=QUOTED-PRINTABLE:Storytime 
DESCRIPTION;ENCODING=QUOTED-PRINTABLE:Designed for friends from 2½ to 5 years old who enjoy listening to stories, and their caregivers.  Storytime features books on a different theme each week, plus songs and rhymes.  The same Storytime session is repeated Tuesday and Thursday each week.=0D=0A=0D=0AThis program is FREE but registration is required.=0D=0A=0D=0ATo register, stop by the Children’s Room or call 724-537-4383.=0D=0A=0D=0ASpace may be limited.
LOCATION:Adams Memorial Library at Reed Room
URL:http://events.wlnonline.org/eventsignup.asp?ID=43148
CATEGORIES:Children's Program
END:VEVENT
END:VCALENDAR
