BEGIN:VCALENDAR
METHOD:PUBLISH
PRODID:evanced event management system
VERSION:2.0
BEGIN:VEVENT
UID:http://events.wlnonline.org/eventsignup.asp?ID=43141
DTSTAMP:20250519T114417Z
DTSTART:20250619T143000Z
DTEND:20250619T150000Z
TITLE;ENCODING=QUOTED-PRINTABLE:Wee Read 
SUMMARY;ENCODING=QUOTED-PRINTABLE:Wee Read 
DESCRIPTION;ENCODING=QUOTED-PRINTABLE:Designed for our youngest friends (from birth to 2½ years old) and their caregivers.  Wee Read combines songs, rhymes, and socialization for a fun and engaging early literacy experience.  The same Wee Read session is repeated Tuesday and Thursday each week.=0D=0A=0D=0AThis program is FREE but registration is required.=0D=0A=0D=0ATo register, stop by the Children’s Room or call 724-537-4383.=0D=0A=0D=0ASpace may be limited.=0D=0A=0D=0A
LOCATION:Adams Memorial Library at Reed Room
URL:http://events.wlnonline.org/eventsignup.asp?ID=43141
CATEGORIES:Children's Program
END:VEVENT
END:VCALENDAR
