BEGIN:VCALENDAR
METHOD:PUBLISH
PRODID:evanced event management system
VERSION:2.0
BEGIN:VEVENT
UID:http://events.wlnonline.org/eventsignup.asp?ID=43132
DTSTAMP:20250519T104654Z
DTSTART:20250616T220000Z
DTEND:20250616T230000Z
TITLE;ENCODING=QUOTED-PRINTABLE:Cozy Coasters
SUMMARY;ENCODING=QUOTED-PRINTABLE:Cozy Coasters
DESCRIPTION;ENCODING=QUOTED-PRINTABLE:Come learn the art of weaving coasters using simple techniques with a variety of colorful materials.  Perfect for beginners, it offers hands-on experience in creating functional, handmade pieces.=0D=0AThis program is FREE but registration is required.=0D=0ATo register, stop by the Upstairs Circulation Desk, call 724-539-1972, or visit our website to register online.
LOCATION:Adams Memorial Library at Adams Memorial Library
URL:http://events.wlnonline.org/eventsignup.asp?ID=43132
CATEGORIES:Adult Program
END:VEVENT
END:VCALENDAR
