BEGIN:VCALENDAR
METHOD:PUBLISH
PRODID:evanced event management system
VERSION:2.0
BEGIN:VEVENT
UID:http://events.wlnonline.org/eventsignup.asp?ID=43130
DTSTAMP:20250519T104318Z
DTSTART:20250610T180000Z
DTEND:20250610T190000Z
TITLE;ENCODING=QUOTED-PRINTABLE: Virtual Author Talk: Lisa Jewell
SUMMARY;ENCODING=QUOTED-PRINTABLE: Virtual Author Talk: Lisa Jewell
DESCRIPTION;ENCODING=QUOTED-PRINTABLE: You’re invited to an exclusive preview event with New York Times bestselling author Lisa Jewell as she introduces readers to her forthcoming title Don’t Let Him In. Along with an introduction to her newest bone-chilling, psychological thriller, Jewell will chat about her life as a writer and her critically-acclaimed body of work.  Nina, Martha, and Ash are on a collision course with a shocking truth that is far darker than anyone could have imagined. And all three are about to wish they had heeded the same warning: Don’t let him in. But the past won’t stay buried forever.=0D=0ATo register, please visit our website.
LOCATION:Adams Memorial Library at Online
URL:http://events.wlnonline.org/eventsignup.asp?ID=43130
CATEGORIES:Adult Program
END:VEVENT
END:VCALENDAR
