BEGIN:VCALENDAR
METHOD:PUBLISH
PRODID:evanced event management system
VERSION:2.0
BEGIN:VEVENT
UID:http://events.wlnonline.org/eventsignup.asp?ID=43129
DTSTAMP:20250519T104155Z
DTSTART:20250604T180000Z
DTEND:20250604T190000Z
TITLE;ENCODING=QUOTED-PRINTABLE:Virtual Author Talk: Smithsonian Scientists Brian Gratwicke & Dr. Gina Della Tog
SUMMARY;ENCODING=QUOTED-PRINTABLE:Virtual Author Talk: Smithsonian Scientists Brian Gratwicke & Dr. Gina Della Tog
DESCRIPTION;ENCODING=QUOTED-PRINTABLE:Description: You’re invited to grab your family and friends and join us as Smithsonian scientists highlight information found in the Smithsonian’s book, “Extinctopedia: Discover what we have lost, what is at risk, and how we can preserve the diversity of our fragile planet” on Wednesday, June 4 at 2 PM ET via digital live-stream in partnership with Adams Memorial Library.=0D=0ATo register, please visit our website.
LOCATION:Adams Memorial Library at Online
URL:http://events.wlnonline.org/eventsignup.asp?ID=43129
CATEGORIES:Adult Program
END:VEVENT
END:VCALENDAR
