BEGIN:VCALENDAR
METHOD:PUBLISH
PRODID:evanced event management system
VERSION:2.0
BEGIN:VEVENT
UID:http://events.wlnonline.org/eventsignup.asp?ID=42843
DTSTAMP:20250513T133518Z
DTSTART;VALUE=DATE:20250526
DTEND;VALUE=DATE:20250527
TITLE;ENCODING=QUOTED-PRINTABLE:Closed
SUMMARY;ENCODING=QUOTED-PRINTABLE:Closed
DESCRIPTION;ENCODING=QUOTED-PRINTABLE:In observance of Memorial Day.
LOCATION:Rostraver Public Library
URL:http://events.wlnonline.org/eventsignup.asp?ID=42843
CATEGORIES:Holiday Library Closed
END:VEVENT
END:VCALENDAR
