BEGIN:VCALENDAR
METHOD:PUBLISH
PRODID:evanced event management system
VERSION:2.0
BEGIN:VEVENT
UID:http://events.wlnonline.org/eventsignup.asp?ID=42842
DTSTAMP:20250513T133140Z
DTSTART:20250630T160000Z
DTEND:20250630T180000Z
TITLE;ENCODING=QUOTED-PRINTABLE:Department of Labor and Industry
SUMMARY;ENCODING=QUOTED-PRINTABLE:Department of Labor and Industry
DESCRIPTION;ENCODING=QUOTED-PRINTABLE:Meet a regional Early Reach Coordinator and learn how OVR can help you become work ready!=0D=0A· OVR services for students age 14 to 21 years old with Disabilities=0D=0A· Career Planning=0D=0A· Resumes, Job Applications, and Interviewing Skills
LOCATION:Rostraver Public Library
URL:http://events.wlnonline.org/eventsignup.asp?ID=42842
CATEGORIES:Community Event
END:VEVENT
END:VCALENDAR
