BEGIN:VCALENDAR
METHOD:PUBLISH
PRODID:evanced event management system
VERSION:2.0
BEGIN:VEVENT
UID:http://events.wlnonline.org/eventsignup.asp?ID=42840
DTSTAMP:20250513T131609Z
DTSTART;VALUE=DATE:20250609
DTEND;VALUE=DATE:20250610
TITLE;ENCODING=QUOTED-PRINTABLE:NO Adult and Senior Chair YOGA
SUMMARY;ENCODING=QUOTED-PRINTABLE:NO Adult and Senior Chair YOGA
DESCRIPTION;ENCODING=QUOTED-PRINTABLE:Chair yoga is a gentle form of yoga that can be done sitting on a chair or standing on the ground while using the chair for support. Cost is $15.00 per session - Payable cash, Venmo or PayPal due at the time of attendance.
LOCATION:Rostraver Public Library
URL:http://events.wlnonline.org/eventsignup.asp?ID=42840
CATEGORIES:Fitness & Health
END:VEVENT
END:VCALENDAR
