BEGIN:VCALENDAR
METHOD:PUBLISH
PRODID:evanced event management system
VERSION:2.0
BEGIN:VEVENT
UID:http://events.wlnonline.org/eventsignup.asp?ID=42832
DTSTAMP:20250526T102939Z
DTSTART:20250605T213000Z
DTEND:20250605T213000Z
TITLE;ENCODING=QUOTED-PRINTABLE:Adult Craft Night!
SUMMARY;ENCODING=QUOTED-PRINTABLE:Adult Craft Night!
DESCRIPTION;ENCODING=QUOTED-PRINTABLE:Join Kelly for a relaxing and creative night of crafting!
LOCATION:Rostraver Public Library
URL:http://events.wlnonline.org/eventsignup.asp?ID=42832
CATEGORIES:Arts & Culture
END:VEVENT
END:VCALENDAR
