BEGIN:VCALENDAR
METHOD:PUBLISH
PRODID:evanced event management system
VERSION:2.0
BEGIN:VEVENT
UID:http://events.wlnonline.org/eventsignup.asp?ID=42826
DTSTAMP:20250520T114754Z
DTSTART:20250711T153000Z
DTEND:20250711T163000Z
TITLE;ENCODING=QUOTED-PRINTABLE:The Colors of Nature (Ages 6+)
SUMMARY;ENCODING=QUOTED-PRINTABLE:The Colors of Nature (Ages 6+)
DESCRIPTION;ENCODING=QUOTED-PRINTABLE:Join Miss Laura this summer to create art inspired by the many colors of nature! The 6+ age group will meet at 11:30 and create a different piece of art at each session. =0D=0AOur Colors of Nature art gallery will be held on Monday, August 11 at 6PM. Children who participated in the Colors of Nature program are invited to feature one piece of art they created over the summer. More details will be shared closer to the gallery.=0D=0A=0D=0AThis program is designed to combine the art and garden programs we've had in past summers.
LOCATION:Rostraver Public Library
URL:http://events.wlnonline.org/eventsignup.asp?ID=42826
CATEGORIES:Arts & Culture
END:VEVENT
END:VCALENDAR
