BEGIN:VCALENDAR
METHOD:PUBLISH
PRODID:evanced event management system
VERSION:2.0
BEGIN:VEVENT
UID:http://events.wlnonline.org/eventsignup.asp?ID=42639
DTSTAMP:20250429T110754Z
DTSTART:20250424T230000Z
DTEND:20250425T000000Z
TITLE;ENCODING=QUOTED-PRINTABLE:Library Foundation Board meeting
SUMMARY;ENCODING=QUOTED-PRINTABLE:Library Foundation Board meeting
DESCRIPTION;ENCODING=QUOTED-PRINTABLE:The Library Foundation Board meets the 4th Thursday of each month at 7:00 p.m. in the Technook space.  If you cannot make it to a meeting in person, a virtual option is available.
LOCATION:Murrysville Community Library at TechNook 
URL:http://events.wlnonline.org/eventsignup.asp?ID=42639
CATEGORIES:Adult Program
END:VEVENT
END:VCALENDAR
