BEGIN:VCALENDAR
METHOD:PUBLISH
PRODID:evanced event management system
VERSION:2.0
BEGIN:VEVENT
UID:http://events.wlnonline.org/eventsignup.asp?ID=42634
DTSTAMP:20250429T104922Z
DTSTART:20250821T230000Z
DTEND:20250822T000000Z
TITLE;ENCODING=QUOTED-PRINTABLE:Library Board of Trustees Meeting
SUMMARY;ENCODING=QUOTED-PRINTABLE:Library Board of Trustees Meeting
DESCRIPTION;ENCODING=QUOTED-PRINTABLE:The Library Board of Trustees meets the 3rd Thursday of each month at 7:00 p.m.
LOCATION:Murrysville Community Library at Conference Room #1
URL:http://events.wlnonline.org/eventsignup.asp?ID=42634
CATEGORIES:Adult Program
END:VEVENT
END:VCALENDAR
