BEGIN:VCALENDAR
METHOD:PUBLISH
PRODID:evanced event management system
VERSION:2.0
BEGIN:VEVENT
UID:http://events.wlnonline.org/eventsignup.asp?ID=42456
DTSTAMP:20250421T151747Z
DTSTART:20250516T170000Z
DTEND:20250516T170000Z
TITLE;ENCODING=QUOTED-PRINTABLE:The Book Report
SUMMARY;ENCODING=QUOTED-PRINTABLE:The Book Report
DESCRIPTION;ENCODING=QUOTED-PRINTABLE:Description: Dandelion, Bryony, Diantha, & Rosie are reading all kinds of books.  Catch them on Instagram to see what they’re reading this month.
LOCATION:Adams Memorial Library at Online
URL:http://events.wlnonline.org/eventsignup.asp?ID=42456
CATEGORIES:Children's Program
END:VEVENT
END:VCALENDAR
