BEGIN:VCALENDAR
METHOD:PUBLISH
PRODID:evanced event management system
VERSION:2.0
BEGIN:VEVENT
UID:http://events.wlnonline.org/eventsignup.asp?ID=42404
DTSTAMP:20250416T163044Z
DTSTART:20250414T150000Z
DTEND:20250414T154500Z
TITLE;ENCODING=QUOTED-PRINTABLE:Preschool Story Time
SUMMARY;ENCODING=QUOTED-PRINTABLE:Preschool Story Time
DESCRIPTION;ENCODING=QUOTED-PRINTABLE:Join Miss Karly as we explore ‘Daniel Tiger’s Life’s Little lessons’ covering topics like sharing, persistence, disappointment, & more!=0D=0A=0D=0AProgram designed for children ages 2.5-5.=0D=0A=0D=0ANo registration needed.
LOCATION:Norwin Public Library at NPL Community Room
URL:http://events.wlnonline.org/eventsignup.asp?ID=42404
CATEGORIES:Storytime
END:VEVENT
END:VCALENDAR
