BEGIN:VCALENDAR
METHOD:PUBLISH
PRODID:evanced event management system
VERSION:2.0
BEGIN:VEVENT
UID:http://events.wlnonline.org/eventsignup.asp?ID=41677
DTSTAMP:20250324T102840Z
DTSTART:20250414T220000Z
DTEND:20250414T230000Z
TITLE;ENCODING=QUOTED-PRINTABLE:Movie Monday: Peter Rabbit
SUMMARY;ENCODING=QUOTED-PRINTABLE:Movie Monday: Peter Rabbit
DESCRIPTION;ENCODING=QUOTED-PRINTABLE:Description: Five rabbits face a new challenge when Mr. McGregor dies and his nephew inherits his house. Now they have to deal with the new Mr. McGregor if they want to continue to steal from his vegetable garden.=0D=0APopcorn will be provided and you're welcome to bring your own non-alcoholic drink.=0D=0AThis program is FREE but registration is required.=0D=0ATo register, stop by the Upstairs Circulation Desk, call 724-539-1972, or visit our website.
LOCATION:Adams Memorial Library at Adams Memorial Library
URL:http://events.wlnonline.org/eventsignup.asp?ID=41677
CATEGORIES:All Ages
END:VEVENT
END:VCALENDAR
