BEGIN:VCALENDAR
METHOD:PUBLISH
PRODID:evanced event management system
VERSION:2.0
BEGIN:VEVENT
UID:http://events.wlnonline.org/eventsignup.asp?ID=41676
DTSTAMP:20250324T102637Z
DTSTART:20250408T220000Z
DTEND:20250408T230000Z
TITLE;ENCODING=QUOTED-PRINTABLE:Free For All: The Public Library
SUMMARY;ENCODING=QUOTED-PRINTABLE:Free For All: The Public Library
DESCRIPTION;ENCODING=QUOTED-PRINTABLE:Description: Learn how public libraries have shaped the country and continue to be a sanctuary for Americans everywhere.=0D=0AFree for All: Inside the Public Library tells the story of the quiet revolutionaries who made a simple idea happen.=0D=0AFrom the pioneering women behind the “Free Library Movement” to today's librarians who service the public despite working in a contentious age of closures and book bans, meet those who created a civic institution where everything is free and the doors are open to all.=0D=0AThis program is FREE but registration is required.=0D=0ATo register please stop by the Upstairs Circulation Desk, call 724-539-1972, or visit our website.
LOCATION:Adams Memorial Library at Adams Memorial Library
URL:http://events.wlnonline.org/eventsignup.asp?ID=41676
CATEGORIES:Adult Program
END:VEVENT
END:VCALENDAR
